BEGIN:VCALENDAR
VERSION:2.0
PRODID:-//Idaho/Oregon Auction Services from Downs Auctions - ECPv6.0.4//NONSGML v1.0//EN
CALSCALE:GREGORIAN
METHOD:PUBLISH
X-ORIGINAL-URL:https://downsauction.com
X-WR-CALDESC:Events for Idaho/Oregon Auction Services from Downs Auctions
REFRESH-INTERVAL;VALUE=DURATION:PT1H
X-Robots-Tag:noindex
X-PUBLISHED-TTL:PT1H
BEGIN:VTIMEZONE
TZID:UTC
BEGIN:STANDARD
TZOFFSETFROM:+0000
TZOFFSETTO:+0000
TZNAME:UTC
DTSTART:20260101T000000
END:STANDARD
END:VTIMEZONE
BEGIN:VEVENT
DTSTART;VALUE=DATE:20260311
DTEND;VALUE=DATE:20260312
DTSTAMP:20260424T091418
CREATED:20260217T195844Z
LAST-MODIFIED:20260221T012135Z
UID:109658-1773187200-1773273599@downsauction.com
SUMMARY:10905 W Arabian Way\, Boise\, ID
DESCRIPTION:10905 W Arabian Way\, Boise\, ID 83709\nAbsolute Real Estate Auction\nWednesday\, March 11th\, 2026 at 2 pm\nAuction DetailsAuction Details\nBring your inspiration and design to this fantastic .91 acre property. The Garage (other Room) is currently set up as a living room (21×22) but the doors can be set back up as a traditional garage with minimal effort. The classic interior design is ready for modern inspiration.\n\n    \n\n\nLOCATION: 10905 W Arabian Way\, Boise\, ID 83709\nDATE: Wednesday March 11th\, 2026 at 2 pm\nTERMS: The property will be sold at a live absolute auction on Wednesday\, March 11th\, 2026 at 2 pm. Sold “As-Is.” Close in 30 days. 5% earnest money is due the day of the auction\, non-refundable. 5% buyer’s premium.\nAGENTS: 2% paid on bid price to an outside agent with a pre-registered buyer. Please register your client at least 2 days prior to the auction. Agents must be present at the auction representing their clients to receive eligible commissions\n\nMLS #98974370 \nCall Dusty (208)989-9655 with any questions.
URL:https://downsauction.com/event/10905-w-arabian-way-bosie-id/
CATEGORIES:Real Estate,Real Estate Auction
ATTACH;FMTTYPE=image/jpeg:https://downsauction.com/wp-content/uploads/2026/02/98974370-9170d76f-c7f1-44b4-856d-6a7554da12d9.jpeg
ORGANIZER;CN="Downs%20Auction%2C%20LLC.":MAILTO:info@downsauction.com
END:VEVENT
BEGIN:VEVENT
DTSTART;VALUE=DATE:20260311
DTEND;VALUE=DATE:20260312
DTSTAMP:20260424T091418
CREATED:20260217T200516Z
LAST-MODIFIED:20260309T183418Z
UID:109664-1773187200-1773273599@downsauction.com
SUMMARY:Brown Online Estate Auction
DESCRIPTION:March 11th\, 2026 at 5 pm\n 10905 W Arabian Way\, Boise\, ID\nClick Here to Bid Online Auction DetailsPhotosAuction Details\n\n\n\n\n\nThe Brown Online Estate Auction has so many great items. From Sheds\, tack\, dog runs\, furniture\, jewelry and more. This is a fun online auction you do not want to miss. We will also be selling the property the same day.\n\n\n\n\n\nPhotos\n\n    \n\n\nDATE AND TIME: \n\nMarch 11th\, 2026 at 5 pm\n\n\nLOCATION:\n\n10905 W Arabian Way\, Boise\, ID 83709\n\n\nPREVIEW: \n\nMarch 11th\, 2026 from 9 am – 4 pm\n\n\nLOADOUT: \n\nMarch 12th\, 2026 from 9am – 5pm\n\n\nTERMS:\n\n 13% Buyer Premium\n\n\n\n 
URL:https://downsauction.com/event/brown-online-estate-auction/
CATEGORIES:Estate Auction,Online
ATTACH;FMTTYPE=image/jpeg:https://downsauction.com/wp-content/uploads/2026/02/img-11.jpeg
ORGANIZER;CN="Downs%20Auction%2C%20LLC.":MAILTO:info@downsauction.com
END:VEVENT
END:VCALENDAR