BEGIN:VCALENDAR
VERSION:2.0
PRODID:-//Idaho/Oregon Auction Services from Downs Auctions - ECPv6.0.4//NONSGML v1.0//EN
CALSCALE:GREGORIAN
METHOD:PUBLISH
X-WR-CALNAME:Idaho/Oregon Auction Services from Downs Auctions
X-ORIGINAL-URL:https://downsauction.com
X-WR-CALDESC:Events for Idaho/Oregon Auction Services from Downs Auctions
REFRESH-INTERVAL;VALUE=DURATION:PT1H
X-Robots-Tag:noindex
X-PUBLISHED-TTL:PT1H
BEGIN:VTIMEZONE
TZID:UTC
BEGIN:STANDARD
TZOFFSETFROM:+0000
TZOFFSETTO:+0000
TZNAME:UTC
DTSTART:20250101T000000
END:STANDARD
END:VTIMEZONE
BEGIN:VEVENT
DTSTART;VALUE=DATE:20251105
DTEND;VALUE=DATE:20251106
DTSTAMP:20260419T123658
CREATED:20250821T015006Z
LAST-MODIFIED:20251103T042447Z
UID:94579-1762300800-1762387199@downsauction.com
SUMMARY:Dr. Darrell Kammer Estate Online Auction - Caldwell
DESCRIPTION:November 5th\, 2025 at 5 pm\n4228 Dearborn St\, Caldwell\, ID\nClick Here to Bid Online Auction DetailsAuction Details\nDr. Darrell Kammer has a fantastic auction that includes a great group of wood working tools\, trailers\, cars and much more! Don’t miss this online auction! \n\n\nDATE AND TIME: \n\nNovember 5th\, 2025 at 5 pm\n\n\nLOCATION:\n\n4228 Dearborn St.\, Caldwell\, ID\n\n\nPREVIEW: \n\nNovember 5th\, 2025 from 9 am – 5 pm\n\n\nTERMS:\n\n15% buyer premium\n\n\n\n 
URL:https://downsauction.com/event/dr-darrell-kammer-estate-online-auction-caldwell/
CATEGORIES:Estate Auction,Online
ATTACH;FMTTYPE=image/jpeg:https://downsauction.com/wp-content/uploads/2025/10/image0.jpeg
ORGANIZER;CN="Downs%20Auction%2C%20LLC.":MAILTO:info@downsauction.com
END:VEVENT
BEGIN:VEVENT
DTSTART;VALUE=DATE:20251112
DTEND;VALUE=DATE:20251113
DTSTAMP:20260419T123658
CREATED:20251016T172252Z
LAST-MODIFIED:20251103T043947Z
UID:99026-1762905600-1762991999@downsauction.com
SUMMARY:Riggs Online Estate Auction
DESCRIPTION:November 12th\, 2025 at 5 pm\n79 Ord Blvd\, Nampa\,  ID\nClick Here to Bid Online Auction DetailsPhotosAuction Details\nThis is a great online auction with firearms\, antiques\, collectibles\, vehicles and so much more! \nPhotos\n\n    \n\n\nDATE AND TIME: \n\nNovember 12th\, 2025 at 5 pm\n\n\nLOCATION:\n\n79 Ord Blvd\, Nampa\, ID 83651\n\n\nPREVIEW: \n\nNovember 12th\, 2025 from 9 am – 4 pm\n\n\nTERMS:\n\n15% buyer premium\n\n\n\n 
URL:https://downsauction.com/event/riggs-estate-online-auction/
CATEGORIES:Estate Auction,Online
ATTACH;FMTTYPE=image/jpeg:https://downsauction.com/wp-content/uploads/2025/10/IMG_9898-scaled.jpg
ORGANIZER;CN="Downs%20Auction%2C%20LLC.":MAILTO:info@downsauction.com
END:VEVENT
BEGIN:VEVENT
DTSTART;VALUE=DATE:20251119
DTEND;VALUE=DATE:20251120
DTSTAMP:20260419T123658
CREATED:20250821T013647Z
LAST-MODIFIED:20251113T181432Z
UID:94574-1763510400-1763596799@downsauction.com
SUMMARY:Dr. Darrell Kammer Estate Online Auction - Medical Office
DESCRIPTION:November 19th\, 2025 at 5 pm\nNampa\, ID\nClick Here to Bid Online Auction DetailsPhotosAuction Details\nThis is the estate auction of Dr. Darrrell Kammer’s personal medial office. This estate is full of medical instruments\, supplies\, and tons of equipment. \nPhotos\n\n    \n\n\nDATE AND TIME: \n\nNovember 19th\, 2025 at 5 pm\n\n\nLOCATION:\n\n1615 12th Ave Ste C\, Nampa\, ID 83686\n\n\nPREVIEW: \n\nNovember 19th\, 2025 from 9 am – 5 pm\n\n\nLOADOUT: \n\nNovember 20th\, 2025 from 9am – 5pm\n\n\nTERMS:\n\n13% buyer premium\n\n\n\n 
URL:https://downsauction.com/event/dr-darrell-kammer-estate-online-auction-medical-office/
CATEGORIES:Estate Auction,Online
ATTACH;FMTTYPE=image/jpeg:https://downsauction.com/wp-content/uploads/2025/08/img-1-e1763057252323.jpeg
ORGANIZER;CN="Downs%20Auction%2C%20LLC.":MAILTO:info@downsauction.com
END:VEVENT
END:VCALENDAR