BEGIN:VCALENDAR
VERSION:2.0
PRODID:-//Idaho/Oregon Auction Services from Downs Auctions - ECPv6.0.4//NONSGML v1.0//EN
CALSCALE:GREGORIAN
METHOD:PUBLISH
X-ORIGINAL-URL:https://downsauction.com
X-WR-CALDESC:Events for Idaho/Oregon Auction Services from Downs Auctions
REFRESH-INTERVAL;VALUE=DURATION:PT1H
X-Robots-Tag:noindex
X-PUBLISHED-TTL:PT1H
BEGIN:VTIMEZONE
TZID:UTC
BEGIN:STANDARD
TZOFFSETFROM:+0000
TZOFFSETTO:+0000
TZNAME:UTC
DTSTART:20250101T000000
END:STANDARD
END:VTIMEZONE
BEGIN:VEVENT
DTSTART;VALUE=DATE:20251209
DTEND;VALUE=DATE:20251210
DTSTAMP:20260423T085847
CREATED:20250821T014731Z
LAST-MODIFIED:20251201T190018Z
UID:94578-1765238400-1765324799@downsauction.com
SUMMARY:Dr. Darrell Kammer Estate Online Auction - Stanford
DESCRIPTION:December 9th\, 2025 at 5 pm\n1117 S Stanford St\, Nampa\, ID 83686\nClick Here to Bid Online Auction DetailsPhotosAuction Details\nAnother fantastic Dr. Darrell Kammer Estate. This auction features a large coin collection\, several collector vehicles\, collectibles and a large tool assortment. Check this auction out! \nPhotos\n\n    \n\n\nDATE AND TIME: \n\nDecember 9th\, 2025 at 5 pm\n\n\nLOCATION:\n\nNampa\, ID 83686\n\n\nPREVIEW: \n\nDecember 9th\, 2025 from 9 am – 4 pm\n\n\nLOADOUT:\n\nDecember 10th and 11th from 9am – 5pm\n\n\nTERMS:\n\n15% Buyer Premium\n\n\n\n 
URL:https://downsauction.com/event/dr-darrell-kammer-estate-online-auction-stanford/
CATEGORIES:Estate Auction,Online
ATTACH;FMTTYPE=image/jpeg:https://downsauction.com/wp-content/uploads/2025/08/img-2.jpeg
ORGANIZER;CN="Downs%20Auction%2C%20LLC.":MAILTO:info@downsauction.com
END:VEVENT
BEGIN:VEVENT
DTSTART;VALUE=DATE:20251216
DTEND;VALUE=DATE:20251217
DTSTAMP:20260423T085847
CREATED:20251020T170635Z
LAST-MODIFIED:20251113T203006Z
UID:99107-1765843200-1765929599@downsauction.com
SUMMARY:Drilling Online Estate Auction
DESCRIPTION:December 16th\, 2025 at 5 pm\n8200 W Springcreek Way\, Boise\,  ID\nClick Here to Bid Online Auction DetailsPhotosAuction Details\nThe Drilling Estate is an incredible culmination of both local and national high end arts work. Along with a large collection of North American and international wildlife mounts. All mounts were taken by archery. This estate also includes 30 bows both traditional and compound. This is an incredible auction! \nPhotos\n\n    \n\n\nDATE AND TIME: \n\nDecember 16th\, 2025 at 5 pm\n\n\nLOCATION:\n\n8200 W Springcreek Way\, Boise\, ID 83714\n\n\nPREVIEW: \n\nDecember 16th\, 2025 from 9 am – 4 pm\n\n\nTERMS:\n\n13% buyer premium\n\n\n\n 
URL:https://downsauction.com/event/drilling-online-estate-auction/
CATEGORIES:Estate Auction,Online
ATTACH;FMTTYPE=image/jpeg:https://downsauction.com/wp-content/uploads/2025/11/4902801180623086127.jpg
ORGANIZER;CN="Downs%20Auction%2C%20LLC.":MAILTO:info@downsauction.com
END:VEVENT
BEGIN:VEVENT
DTSTART;VALUE=DATE:20251218
DTEND;VALUE=DATE:20251219
DTSTAMP:20260423T085847
CREATED:20251119T212952Z
LAST-MODIFIED:20251209T050342Z
UID:100180-1766016000-1766102399@downsauction.com
SUMMARY:Eagle Downsizing Online Auction
DESCRIPTION:December 18th\, 2025 at 5 pm\n3744 Hwy 16\, Eagle\, ID 83616\nClick Here to Bid Online Auction DetailsPhotosAuction Details\nIncredible downsizing auction! This auction has highlights including Powder River squeeze shoot\, tub and alley\, like new snowmobiles\, snow bike\, and a huge selection of tools and equipment. \nPhotos\n\n    \n\n\nDATE AND TIME: \n\nDecember 18th\, 2025 at 5 pm\n\n\nLOCATION:\n\n3744 HWY 16\, Eagle\, ID 83616\n\n\nPREVIEW: \n\nDecember 18th\, 2025 from 9 am – 4 pm\n\n\nLOADOUT: \n\nDecember 22nd and 23rd\, 2025 from 9am – 5pm\n\n\nTERMS:\n\n13% buyer premium\n\n\n\n 
URL:https://downsauction.com/event/eagle-downsizing/
CATEGORIES:Estate Auction,Online
ATTACH;FMTTYPE=image/jpeg:https://downsauction.com/wp-content/uploads/2025/11/img-1.jpeg
ORGANIZER;CN="Downs%20Auction%2C%20LLC.":MAILTO:info@downsauction.com
END:VEVENT
END:VCALENDAR