BEGIN:VCALENDAR
VERSION:2.0
PRODID:-//Idaho/Oregon Auction Services from Downs Auctions - ECPv6.0.4//NONSGML v1.0//EN
CALSCALE:GREGORIAN
METHOD:PUBLISH
X-ORIGINAL-URL:https://downsauction.com
X-WR-CALDESC:Events for Idaho/Oregon Auction Services from Downs Auctions
REFRESH-INTERVAL;VALUE=DURATION:PT1H
X-Robots-Tag:noindex
X-PUBLISHED-TTL:PT1H
BEGIN:VTIMEZONE
TZID:UTC
BEGIN:STANDARD
TZOFFSETFROM:+0000
TZOFFSETTO:+0000
TZNAME:UTC
DTSTART:20250101T000000
END:STANDARD
END:VTIMEZONE
BEGIN:VEVENT
DTSTART;VALUE=DATE:20251001
DTEND;VALUE=DATE:20251002
DTSTAMP:20260423T090141
CREATED:20250820T175334Z
LAST-MODIFIED:20250908T191249Z
UID:94551-1759276800-1759363199@downsauction.com
SUMMARY:Dr. Darrell Kammer Estate Online Auction - Melba
DESCRIPTION:October 1st\, 2025 at 5 pm\nMelba\, ID\nClick Here to Bid Online Auction DetailsPhotosAuction Details\nThe Dr. Darrell Kammer Melba Estate Auction is back live on HiBid. Take a look at this great selection of vehicles\, trailers\, tool and more! \nPhotos\n\n    \n\n\nDATE AND TIME: \n\nOctober 1st\, 2025 at 5 pm\n\n\nLOCATION:\n\n12681 Trail Drive Rd\, Melba\, ID 83641\n\n\nPREVIEW: \n\nOctober 1st\, 2025 from 9 am – 5 pm\n\n\nTERMS:\n\n13% buyer premium\n\n\n\n 
URL:https://downsauction.com/event/dr-darrell-kammer-estate-melba/
CATEGORIES:Estate Auction,Online
ATTACH;FMTTYPE=image/jpeg:https://downsauction.com/wp-content/uploads/2025/08/m6.jpg
ORGANIZER;CN="Downs%20Auction%2C%20LLC.":MAILTO:info@downsauction.com
END:VEVENT
END:VCALENDAR