BEGIN:VCALENDAR
VERSION:2.0
PRODID:-//Idaho/Oregon Auction Services from Downs Auctions - ECPv6.0.4//NONSGML v1.0//EN
CALSCALE:GREGORIAN
METHOD:PUBLISH
X-ORIGINAL-URL:https://downsauction.com
X-WR-CALDESC:Events for Idaho/Oregon Auction Services from Downs Auctions
REFRESH-INTERVAL;VALUE=DURATION:PT1H
X-Robots-Tag:noindex
X-PUBLISHED-TTL:PT1H
BEGIN:VTIMEZONE
TZID:UTC
BEGIN:STANDARD
TZOFFSETFROM:+0000
TZOFFSETTO:+0000
TZNAME:UTC
DTSTART:20260101T000000
END:STANDARD
END:VTIMEZONE
BEGIN:VEVENT
DTSTART;VALUE=DATE:20260422
DTEND;VALUE=DATE:20260423
DTSTAMP:20260420T144329
CREATED:20260409T192050Z
LAST-MODIFIED:20260412T152137Z
UID:110811-1776816000-1776902399@downsauction.com
SUMMARY:Cold Chain Online Liquidation Auction
DESCRIPTION:April 22nd\, 2026 at 4 pm\n 875 W McGregor Ct\, Ste 105\, Boise\, ID\nClick Here to Bid Online Auction DetailsPhotosAuction Details\n\n\nMORE DETAILS COMING SOON!!\n\n\nPhotos\n\n  \n\n\nDATE AND TIME: \n\nApril 22nd\, 2026 at 4 pm\n\n\nLOCATION:\n\n875 W McGregor Ct\, Ste 105\, Boise\, ID 83705\n\n\nPREVIEW: \n\nApril 22nd\, 2026 from 9 am – 4 pm\n\n\nLOADOUT: \n\nApril 23rd\, 2026 from 9am – 5pm\n\n\nTERMS:\n\n 13% Buyer Premium\n\n\n\n 
URL:https://downsauction.com/event/cold-chain-online-liquidation-auction/
CATEGORIES:Estate Auction,Online
ATTACH;FMTTYPE=image/jpeg:https://downsauction.com/wp-content/uploads/2026/04/IMG_8162-scaled.jpg
ORGANIZER;CN="Downs%20Auction%2C%20LLC.":MAILTO:info@downsauction.com
END:VEVENT
BEGIN:VEVENT
DTSTART;VALUE=DATE:20260427
DTEND;VALUE=DATE:20260428
DTSTAMP:20260420T144329
CREATED:20260413T174914Z
LAST-MODIFIED:20260413T174914Z
UID:110934-1777248000-1777334399@downsauction.com
SUMMARY:Broemling Online Estate Auction
DESCRIPTION:April 27th\, 2026 at 5 pm\n 3385 N Creswell Way\, Boise\, ID\nClick Here to Bid Online Auction DetailsPhotosAuction Details\n\n\nMORE DETAILS COMING SOON!!\n\n\nPhotos\n\n  \n\n\nDATE AND TIME: \n\nApril 27th\, 2026 at 5 pm\n\n\nLOCATION:\n\n3385 N Creswell Way\, Boise\, ID 83713\n\n\nPREVIEW: \n\nApril 27th\, 2026 from 9 am – 4 pm\n\n\nLOADOUT: \n\nApril 28th\, 2026 from 9am – 5pm\n\n\nTERMS:\n\n 13% Buyer Premium\n\n\n\n 
URL:https://downsauction.com/event/broemling-online-estate-auction/
CATEGORIES:Estate Auction,Online
ATTACH;FMTTYPE=image/png:https://downsauction.com/wp-content/uploads/2026/03/Yellow-and-White-Bold-Coming-Soon-Bag-Instagram-Post.png
ORGANIZER;CN="Downs%20Auction%2C%20LLC.":MAILTO:info@downsauction.com
END:VEVENT
BEGIN:VEVENT
DTSTART;VALUE=DATE:20260429
DTEND;VALUE=DATE:20260430
DTSTAMP:20260420T144329
CREATED:20260330T173130Z
LAST-MODIFIED:20260330T173130Z
UID:110593-1777420800-1777507199@downsauction.com
SUMMARY:Clark Online Estate Auction
DESCRIPTION:April29th\, 2026 at 5 pm\n 1202 Jessica Ave\, Fruitland\, ID\nClick Here to Bid Online Auction DetailsPhotosAuction Details\n\n\nMORE DETAILS COMING SOON!!\n\n\nPhotos\n\n  \n\n\nDATE AND TIME: \n\nApril 29th\, 2026 at 5 pm\n\n\nLOCATION:\n\n1202 Jessica Ave\, Fruitland\, ID 83619\n\n\nPREVIEW: \n\nApril 29th\, 2026 from 9 am – 4 pm\n\n\nLOADOUT: \n\nApril 30th\, 2026 from 9am – 5pm\n\n\nTERMS:\n\n 13% Buyer Premium\n\n\n\n 
URL:https://downsauction.com/event/clark-online-estate-auction/
CATEGORIES:Estate Auction,Online
ATTACH;FMTTYPE=image/png:https://downsauction.com/wp-content/uploads/2026/03/Yellow-and-White-Bold-Coming-Soon-Bag-Instagram-Post.png
ORGANIZER;CN="Downs%20Auction%2C%20LLC.":MAILTO:info@downsauction.com
END:VEVENT
END:VCALENDAR