BEGIN:VCALENDAR
VERSION:2.0
PRODID:-//Idaho/Oregon Auction Services from Downs Auctions - ECPv6.0.4//NONSGML v1.0//EN
CALSCALE:GREGORIAN
METHOD:PUBLISH
X-ORIGINAL-URL:https://downsauction.com
X-WR-CALDESC:Events for Idaho/Oregon Auction Services from Downs Auctions
REFRESH-INTERVAL;VALUE=DURATION:PT1H
X-Robots-Tag:noindex
X-PUBLISHED-TTL:PT1H
BEGIN:VTIMEZONE
TZID:UTC
BEGIN:STANDARD
TZOFFSETFROM:+0000
TZOFFSETTO:+0000
TZNAME:UTC
DTSTART:20240101T000000
END:STANDARD
TZID:America/Chicago
BEGIN:DAYLIGHT
TZOFFSETFROM:-0600
TZOFFSETTO:-0500
TZNAME:CDT
DTSTART:20240310T080000
END:DAYLIGHT
BEGIN:STANDARD
TZOFFSETFROM:-0500
TZOFFSETTO:-0600
TZNAME:CST
DTSTART:20241103T070000
END:STANDARD
END:VTIMEZONE
BEGIN:VEVENT
DTSTART;VALUE=DATE:20240806
DTEND;VALUE=DATE:20240807
DTSTAMP:20260421T084811
CREATED:20240710T165852Z
LAST-MODIFIED:20240710T170203Z
UID:76400-1722902400-1722988799@downsauction.com
SUMMARY:1346 NW 6th Ave\, Ontario Oregon 97914
DESCRIPTION:1346 NW 6th Ave\, Ontario Oregon Real Estate Auction\nTuesday\, August 6\, 2024 at 11am\nDiscover modern comfort in this pristine 2020-built home boasting 3 bedrooms and 2 bathrooms. Upgraded throughout\, enjoy an open floor plan with a spacious living area and a large fenced backyard perfect for outdoor gatherings. The kitchen features upgraded dovetail wood cabinets\, granite countertops\, a fantastic stainless steel refrigerator\, and an island with a breakfast bar. The primary bedroom offers a dual vanity with quartz countertops\, a walk-in shower\, and tub. Additional highlights include an extra deep 2nd bay in the two-car garage and convenient trailer parking. Don’t miss the opportunity to make this contemporary gem yours! \n\nLOCATION: 1346 NW 6th Ave\, Ontario Oregon\, 97914\nDATE: Wednesday\, August 6\, 2024 at 11am\nTERMS: The property will be sold at a live auction on August 6\, 2024 at 11am. Sold with owner’s confirmation. Sold “As-Is.” Close in 30 days. 5% earnest money is due the day of the auction\, non-refundable. 5% buyer’s premium.\nAGENTS: 2.5% paid on bid price to an outside agent with a pre-registered buyer. Please register your client at least 2 days prior to the auction. Agents must be present at the auction representing their clients to receive eligible commissions.\n\n    \nMLS #98916910 \nCall Larry (208)941-1075 or Dusty (208)989-9655 with any questions.
URL:https://downsauction.com/event/1346-nw-6th-ave-ontario-oregon-97914/
CATEGORIES:Real Estate,Real Estate Auction
ATTACH;FMTTYPE=image/jpeg:https://downsauction.com/wp-content/uploads/2024/07/IMG_2535-scaled.jpg
ORGANIZER;CN="Downs%20Auction%2C%20LLC.":MAILTO:info@downsauction.com
END:VEVENT
BEGIN:VEVENT
DTSTART;VALUE=DATE:20240807
DTEND;VALUE=DATE:20240808
DTSTAMP:20260421T084811
CREATED:20240708T154449Z
LAST-MODIFIED:20240724T032314Z
UID:76335-1722988800-1723075199@downsauction.com
SUMMARY:10331 W Utahna Boise Idaho 83714
DESCRIPTION:10331 W Utahna Boise\, Idaho Real Estate Auction\nWednesday August 7\, 2024 at 1 pm\n Discover the epitome of modern comfort and versatility in this meticulously updated 4-bedroom\, 3-bathroom home\, perfectly suited for multi-generational living. Nestled on nearly half an acre of prime land\, this property boasts 1450 sq ft in the main home plus an approximately 600 sq ft mother-in-law quarters with a private entrance\, ideal for independent living. The recently renovated home showcases exquisite updates throughout\, promising a blend of elegance and functionality. Outside\, a spacious 23×34′ shop awaits your personal touch\, offering ample space for hobbies or storage. With development potential on the expansive 0.475-acre lot\, this residence presents limitless opportunities. Come see this gorgeous home today! \n\nLOCATION: 10331 W Utahna Boise Idaho 83714\nDATE: Wednesday\, August 7\, 2024 at 1pm\nTERMS: The property will be sold at a live auction on August 7\, 2024 at 1pm. Sold with owner’s confirmation. Sold “As-Is.” Close in 30 days. 5% earnest money is due the day of the auction\, non-refundable. 5% buyer’s premium.\nAGENTS: 2.5% paid on bid price to an outside agent with a pre-registered buyer. Please register your client at least 2 days prior to the auction. Agents must be present at the auction representing their clients to receive eligible commissions.\n\nMLS # \nCall Larry (208)941-1075 or Dusty (208)989-9655 with any questions.
URL:https://downsauction.com/event/10331-w-utahna-boise-idaho-83714/
CATEGORIES:Real Estate,Real Estate Auction
ATTACH;FMTTYPE=image/jpeg:https://downsauction.com/wp-content/uploads/2024/07/Screenshot-2024-07-08-100754.jpg
ORGANIZER;CN="Downs%20Auction%2C%20LLC.":MAILTO:info@downsauction.com
END:VEVENT
BEGIN:VEVENT
DTSTART;VALUE=DATE:20240812
DTEND;VALUE=DATE:20240813
DTSTAMP:20260421T084811
CREATED:20240719T174812Z
LAST-MODIFIED:20240719T175239Z
UID:76700-1723420800-1723507199@downsauction.com
SUMMARY:913 Bobcat Drive\, Jerome Idaho 83338
DESCRIPTION:913 Bobcat Drive\, Jerome Idaho Real Estate Auction\nMonday August 12\, 2024 at 1 pm\nWelcome to this charming 2018-built home nestled in a prime location across from Jerome High School in Jerome\, Idaho. Featuring 3 bedrooms\, 2 bathrooms\, and a spacious 2-car garage\, this property offers immense potential with a bit of TLC. Perfectly suited for those seeking to customize and personalize their living space\, don’t miss the chance to explore this opportunity and make it your own! \n\nLOCATION: 913 Bobcat Drive\, Jerome Idaho 83338\nDATE: Monday August 12\, 2024 at 1pm\nTERMS: The property will be sold at a live auction on August 12\, 2024 at 1pm. Sold with owner’s confirmation. Sold “As-Is.” Close in 30 days. 5% earnest money is due the day of the auction\, non-refundable. 10% buyer’s premium.\nAGENTS: 3% paid on bid price to an outside agent with a pre-registered buyer. Please register your client at least 2 days prior to the auction. Agents must be present at the auction representing their clients to receive eligible commissions.\n\nMLS #98917967 \nCall Larry (208)941-1075 or Dusty (208)989-9655 with any questions.
URL:https://downsauction.com/event/913-bobcat-drive-jerome-idaho-83338/
CATEGORIES:Real Estate,Real Estate Auction
ATTACH;FMTTYPE=image/jpeg:https://downsauction.com/wp-content/uploads/2024/07/IMG_2594-scaled.jpg
ORGANIZER;CN="Downs%20Auction%2C%20LLC.":MAILTO:info@downsauction.com
END:VEVENT
BEGIN:VEVENT
DTSTART;VALUE=DATE:20240813
DTEND;VALUE=DATE:20240814
DTSTAMP:20260421T084811
CREATED:20240719T175147Z
LAST-MODIFIED:20240722T223217Z
UID:76702-1723507200-1723593599@downsauction.com
SUMMARY:9840 W Hill Road Pkwy\, Boise Idaho 83714
DESCRIPTION:9840 W Hill Road Pkwy\, Boise Idaho Real Estate Auction\nTuesday August 13\, 2024 at 10 am\nWelcome to your prime 5-acre fixer-upper opportunity nestled in a coveted location adjacent to Optimist Park. This property promises endless potential\, boasting RP (Rural Preservation) zoning with potential for conversion to RUT zoning. Currently\, RP zoning allows for the development of schools\, churches\, and other public uses\, making this a versatile investment opportunity. Imagine transforming the existing home into an ADU \,while designing and building your dream home on the expansive 5-acre lot. Enjoy year-round privacy and breathtaking sunset views in this accessible location\, just moments away from downtown Eagle and Highway 55. The property features a detached 2-car garage and ample storage spaces\, ideal for housing all your recreational vehicles and equipment. Don’t miss out on this rare chance to create your own sanctuary in this prime location. \n     \n\nLOCATION: 9840 W Hill Rd Pkwy\, Boise Idaho 83714\nDATE: Tuesday August 13\, 2024 at 10am\nTERMS: The property will be sold at a live auction on August 13\, 2024 at 1pm. Sold with owner’s confirmation. Sold “As-Is.” Close in 30 days. 5% earnest money is due the day of the auction\, non-refundable. 10% buyer’s premium.\nAGENTS: 3% paid on bid price to an outside agent with a pre-registered buyer. Please register your client at least 2 days prior to the auction. Agents must be present at the auction representing their clients to receive eligible commissions.\n\nMLS #98917977 \nCall Larry (208)941-1075 or Dusty (208)989-9655 with any questions.
URL:https://downsauction.com/event/9840-w-hill-road-pkwy-boise-idaho-83714/
CATEGORIES:Real Estate,Real Estate Auction
ATTACH;FMTTYPE=image/jpeg:https://downsauction.com/wp-content/uploads/2024/07/Screenshot-2024-07-18-124513.jpg
ORGANIZER;CN="Downs%20Auction%2C%20LLC.":MAILTO:info@downsauction.com
END:VEVENT
BEGIN:VEVENT
DTSTART;VALUE=DATE:20240819
DTEND;VALUE=DATE:20240820
DTSTAMP:20260421T084811
CREATED:20240806T170503Z
LAST-MODIFIED:20240807T205533Z
UID:77298-1724025600-1724111999@downsauction.com
SUMMARY:Hamilton Estate Auction
DESCRIPTION:Hamilton Auction\nAugust 19\, 2024 Close Out at 5 PM\n422 2300 SE 5th Way\, Meridian ID 83642 \nThe Hamilton Online Estate Auction has an incredible private collection of Lladro\, art\, high end furniture\, Department 56 decor\, Swarovski crystal and more. this is a fun online auction you do not want to miss! \nClick Here to Bid Online Auction DetailsPhotosAuction Details\nClick the Link to Bid Online! \n  \nPhotos\n    \n  \n\n  \n\nLOCATION: 2300 SE 5th Way\, Meridian ID 83642\nDATE: August 19\, 2024 Close Out at 5pm\nTERMS: 13% Buyers Premium. Online Only Auction Through HiBID.\nPREVIEW: August 19\, 2024 from 9am-5pm
URL:https://downsauction.com/event/hamilton-estate/
LOCATION:ID\, United States
CATEGORIES:Estate Auction,Online
ATTACH;FMTTYPE=image/png:https://downsauction.com/wp-content/uploads/2024/08/Untitled-design.png
ORGANIZER;CN="Downs%20Auction%2C%20LLC.":MAILTO:info@downsauction.com
END:VEVENT
END:VCALENDAR